BEGIN:VCALENDAR

VERSION:2.0

PRODID:-//hacksw/handcal//NONSGML v1.0//EN

BEGIN:VEVENT

UID:b3492ebc3db336649bfc44e063cb394c

DTSTAMP:20190228T044403Z

DTSTART:19700101T095500

DTEND:19700101T100500

SUMMARY:19943109 - MIAMI, 1/23 Evandale Crescent

LOCATION:MIAMI, 1/23 Evandale Crescent

END:VEVENT

END:VCALENDAR