BEGIN:VCALENDAR

VERSION:2.0

PRODID:-//hacksw/handcal//NONSGML v1.0//EN

BEGIN:VEVENT

UID:ca8ad3c8eb8be516b1f81aac7b6a2020

DTSTAMP:20190228T044413Z

DTSTART:19700101T103000

DTEND:19700101T104000

SUMMARY:20438351 - VARSITY LAKES, 12 Mindelo Drive

LOCATION:VARSITY LAKES, 12 Mindelo Drive

END:VEVENT

END:VCALENDAR