BEGIN:VCALENDAR

VERSION:2.0

PRODID:-//hacksw/handcal//NONSGML v1.0//EN

BEGIN:VEVENT

UID:ad325da25449ee1d039d2c1baced1fd3

DTSTAMP:20190228T044448Z

DTSTART:19700101T095500

DTEND:19700101T100500

SUMMARY:20442944 - MERRIMAC, 119/6 Bourton Road

LOCATION:MERRIMAC, 119/6 Bourton Road

END:VEVENT

END:VCALENDAR