BEGIN:VCALENDAR

VERSION:2.0

PRODID:-//hacksw/handcal//NONSGML v1.0//EN

BEGIN:VEVENT

UID:c54134b0623235313fa6440946456f95

DTSTAMP:20190228T044524Z

DTSTART:19700101T110500

DTEND:19700101T111500

SUMMARY:19943109 - MIAMI, 1/23 Evandale Crescent

LOCATION:MIAMI, 1/23 Evandale Crescent

END:VEVENT

END:VCALENDAR