BEGIN:VCALENDAR

VERSION:2.0

PRODID:-//hacksw/handcal//NONSGML v1.0//EN

BEGIN:VEVENT

UID:21786d0b74731aef45439c73cf8db0a4

DTSTAMP:20190228T044529Z

DTSTART:19700101T113000

DTEND:19700101T114000

SUMMARY:19864183 - ROBINA, 13B Grenaside Court

LOCATION:ROBINA, 13B Grenaside Court

END:VEVENT

END:VCALENDAR