BEGIN:VCALENDAR

VERSION:2.0

PRODID:-//hacksw/handcal//NONSGML v1.0//EN

BEGIN:VEVENT

UID:39bfa5d5e759588ae4b9f3f3b13e9534

DTSTAMP:20190228T042245Z

DTSTART:19700101T100000

DTEND:19700101T104500

SUMMARY:19087444 - ROBINA, 28 Camphor Wood Court

LOCATION:ROBINA, 28 Camphor Wood Court

END:VEVENT

END:VCALENDAR