BEGIN:VCALENDAR

VERSION:2.0

PRODID:-//hacksw/handcal//NONSGML v1.0//EN

BEGIN:VEVENT

UID:975aec94ab40c1a39a67fb4152569545

DTSTAMP:20190228T044543Z

DTSTART:19700101T103000

DTEND:19700101T104500

SUMMARY:4519 - SURFERS PARADISE, 9 and 10/3302 Surfers Paradise Boulevard

LOCATION:SURFERS PARADISE, 9 and 10/3302 Surfers Paradise Boulevard

END:VEVENT

END:VCALENDAR