BEGIN:VCALENDAR

VERSION:2.0

PRODID:-//hacksw/handcal//NONSGML v1.0//EN

BEGIN:VEVENT

UID:37ba21a6083b5c291354c527dfae2f85

DTSTAMP:20190228T042321Z

DTSTART:19700101T110000

DTEND:19700101T114500

SUMMARY:20039878 - ROBINA, 1803/22-34 Glenside Drive

LOCATION:ROBINA, 1803/22-34 Glenside Drive

END:VEVENT

END:VCALENDAR