BEGIN:VCALENDAR

VERSION:2.0

PRODID:-//hacksw/handcal//NONSGML v1.0//EN

BEGIN:VEVENT

UID:42239d590f9cdaa3923a36d02109fa13

DTSTAMP:20190228T042325Z

DTSTART:19700101T113000

DTEND:19700101T120000

SUMMARY:18793608 - VARSITY LAKES, 12 Tourangeau Crescent

LOCATION:VARSITY LAKES, 12 Tourangeau Crescent

END:VEVENT

END:VCALENDAR