BEGIN:VCALENDAR

VERSION:2.0

PRODID:-//hacksw/handcal//NONSGML v1.0//EN

BEGIN:VEVENT

UID:77057f238d07d0e3ee2e9c9025864b0f

DTSTAMP:20190228T042400Z

DTSTART:19700101T120000

DTEND:19700101T124500

SUMMARY:19370854 - BENOWA, 25/35 St Kevins Avenue

LOCATION:BENOWA, 25/35 St Kevins Avenue

END:VEVENT

END:VCALENDAR