BEGIN:VCALENDAR

VERSION:2.0

PRODID:-//hacksw/handcal//NONSGML v1.0//EN

BEGIN:VEVENT

UID:0bb459625fe5fc7738c3f5abdd5c269f

DTSTAMP:20190228T042338Z

DTSTART:19700101T120000

DTEND:19700101T130000

SUMMARY:20307426 - ROBINA, 22/14 Oakmont Street

LOCATION:ROBINA, 22/14 Oakmont Street

END:VEVENT

END:VCALENDAR