BEGIN:VCALENDAR

VERSION:2.0

PRODID:-//hacksw/handcal//NONSGML v1.0//EN

BEGIN:VEVENT

UID:43d51dc2a8780b3b1beb7d07faae51b4

DTSTAMP:20190228T042432Z

DTSTART:19700101T123000

DTEND:19700101T130000

SUMMARY:20325127 - REEDY CREEK, 7/13 Encamp Street

LOCATION:REEDY CREEK, 7/13 Encamp Street

END:VEVENT

END:VCALENDAR