BEGIN:VCALENDAR

VERSION:2.0

PRODID:-//hacksw/handcal//NONSGML v1.0//EN

BEGIN:VEVENT

UID:4ba7e275411157c75dab985d2e5a3138

DTSTAMP:20200226T232832Z

DTSTART:19700101T094500

DTEND:19700101T100000

SUMMARY:18465184 - CARRARA, 67/3031 The Boulevard

LOCATION:CARRARA, 67/3031 The Boulevard

END:VEVENT

END:VCALENDAR