BEGIN:VCALENDAR

VERSION:2.0

PRODID:-//hacksw/handcal//NONSGML v1.0//EN

BEGIN:VEVENT

UID:77ec59071b23839447c5b6915e5280c7

DTSTAMP:20200226T232924Z

DTSTART:19700101T102000

DTEND:19700101T103500

SUMMARY:21704974 - OXENFORD, 2040/6 Crestridge Cres

LOCATION:OXENFORD, 2040/6 Crestridge Cres

END:VEVENT

END:VCALENDAR