BEGIN:VCALENDAR

VERSION:2.0

PRODID:-//hacksw/handcal//NONSGML v1.0//EN

BEGIN:VEVENT

UID:d169ec9a4b5faf6483679b5e6d9542f1

DTSTAMP:20200226T232942Z

DTSTART:19700101T120000

DTEND:19700101T121500

SUMMARY:21492435 - COOLANGATTA, 3/10 Coyne Street

LOCATION:COOLANGATTA, 3/10 Coyne Street

END:VEVENT

END:VCALENDAR