BEGIN:VCALENDAR

VERSION:2.0

PRODID:-//hacksw/handcal//NONSGML v1.0//EN

BEGIN:VEVENT

UID:182369276e66a3d56be43d166711d87d

DTSTAMP:20200226T224917Z

DTSTART:19700101T120000

DTEND:19700101T130000

SUMMARY:21679325 - ROBINA, 107 Glen Eagles Drive

LOCATION:ROBINA, 107 Glen Eagles Drive

END:VEVENT

END:VCALENDAR