BEGIN:VCALENDAR

VERSION:2.0

PRODID:-//hacksw/handcal//NONSGML v1.0//EN

BEGIN:VEVENT

UID:94f2b153e36d560b739fc6882ac81907

DTSTAMP:20200226T233047Z

DTSTART:19700101T114500

DTEND:19700101T120000

SUMMARY:20706417 - UPPER COOMERA, 5 Glenridge Street

LOCATION:UPPER COOMERA, 5 Glenridge Street

END:VEVENT

END:VCALENDAR