BEGIN:VCALENDAR

VERSION:2.0

PRODID:-//hacksw/handcal//NONSGML v1.0//EN

BEGIN:VEVENT

UID:84f2ec8eaf487f64860225c3aa0f2e20

DTSTAMP:20200226T225021Z

DTSTART:19700101T090000

DTEND:19700101T100000

SUMMARY:21705835 - ROBINA, 2/13 Andromeda Parade

LOCATION:ROBINA, 2/13 Andromeda Parade

END:VEVENT

END:VCALENDAR