BEGIN:VCALENDAR

VERSION:2.0

PRODID:-//hacksw/handcal//NONSGML v1.0//EN

BEGIN:VEVENT

UID:c0371ef745e8c1e2ef5b668dbaff6ac0

DTSTAMP:20200226T225048Z

DTSTART:19700101T103000

DTEND:19700101T111500

SUMMARY:18252313 - SPRINGBROOK, 5 Wattle Grove

LOCATION:SPRINGBROOK, 5 Wattle Grove

END:VEVENT

END:VCALENDAR