BEGIN:VCALENDAR

VERSION:2.0

PRODID:-//hacksw/handcal//NONSGML v1.0//EN

BEGIN:VEVENT

UID:46eb0075074fc22643088c9a8f19f43c

DTSTAMP:20200226T225115Z

DTSTART:19700101T113000

DTEND:19700101T123000

SUMMARY:20992037 - ROBINA, 64 Peach Drive

LOCATION:ROBINA, 64 Peach Drive

END:VEVENT

END:VCALENDAR