BEGIN:VCALENDAR

VERSION:2.0

PRODID:-//hacksw/handcal//NONSGML v1.0//EN

BEGIN:VEVENT

UID:3c06d3c7ae96742690e21afe8c37ee1f

DTSTAMP:20200226T225153Z

DTSTART:19700101T133000

DTEND:19700101T141500

SUMMARY:20582314 - BIGGERA WATERS, 3106/5 Harbourside Court

LOCATION:BIGGERA WATERS, 3106/5 Harbourside Court

END:VEVENT

END:VCALENDAR