BEGIN:VCALENDAR

VERSION:2.0

PRODID:-//hacksw/handcal//NONSGML v1.0//EN

BEGIN:VEVENT

UID:301c622c4ef1e20d390dca060476e715

DTSTAMP:20200226T225226Z

DTSTART:19700101T133000

DTEND:19700101T143000

SUMMARY:21679325 - ROBINA, 107 Glen Eagles Drive

LOCATION:ROBINA, 107 Glen Eagles Drive

END:VEVENT

END:VCALENDAR