BEGIN:VCALENDAR

VERSION:2.0

PRODID:-//hacksw/handcal//NONSGML v1.0//EN

BEGIN:VEVENT

UID:1719c5aaba4239dedbe8c7f062dfb682

DTSTAMP:20200226T225237Z

DTSTART:19700101T150000

DTEND:19700101T154500

SUMMARY:21687717 - ROBINA, 12 Flagstaff Place

LOCATION:ROBINA, 12 Flagstaff Place

END:VEVENT

END:VCALENDAR